BEGIN:VCALENDAR
VERSION:2.0
PRODID:-//Gungahlin Uniting Church - ECPv6.15.20//NONSGML v1.0//EN
CALSCALE:GREGORIAN
METHOD:PUBLISH
X-ORIGINAL-URL:https://www.gungahlinuniting.org
X-WR-CALDESC:Events for Gungahlin Uniting Church
REFRESH-INTERVAL;VALUE=DURATION:PT1H
X-Robots-Tag:noindex
X-PUBLISHED-TTL:PT1H
BEGIN:VTIMEZONE
TZID:Australia/Sydney
BEGIN:STANDARD
TZOFFSETFROM:+1100
TZOFFSETTO:+1000
TZNAME:AEST
DTSTART:20240406T160000
END:STANDARD
BEGIN:DAYLIGHT
TZOFFSETFROM:+1000
TZOFFSETTO:+1100
TZNAME:AEDT
DTSTART:20241005T160000
END:DAYLIGHT
BEGIN:STANDARD
TZOFFSETFROM:+1100
TZOFFSETTO:+1000
TZNAME:AEST
DTSTART:20250405T160000
END:STANDARD
BEGIN:DAYLIGHT
TZOFFSETFROM:+1000
TZOFFSETTO:+1100
TZNAME:AEDT
DTSTART:20251004T160000
END:DAYLIGHT
BEGIN:STANDARD
TZOFFSETFROM:+1100
TZOFFSETTO:+1000
TZNAME:AEST
DTSTART:20260404T160000
END:STANDARD
BEGIN:DAYLIGHT
TZOFFSETFROM:+1000
TZOFFSETTO:+1100
TZNAME:AEDT
DTSTART:20261003T160000
END:DAYLIGHT
END:VTIMEZONE
BEGIN:VEVENT
DTSTART;TZID=Australia/Sydney:20250809T180000
DTEND;TZID=Australia/Sydney:20250809T210000
DTSTAMP:20260421T002630
CREATED:20250704T041704Z
LAST-MODIFIED:20250704T041729Z
UID:10951-1754762400-1754773200@www.gungahlinuniting.org
SUMMARY:Board Games Night
DESCRIPTION:Come join in a fun night of board games and food. Bring a game or food to share. \n\n\n\nA Wesley Uniting Church Ecumenical Young Adults event.
URL:https://www.gungahlinuniting.org/event/board-games-night/
LOCATION:ACT
END:VEVENT
END:VCALENDAR