BEGIN:VCALENDAR
VERSION:2.0
PRODID:-//Gungahlin Uniting Church - ECPv6.15.20//NONSGML v1.0//EN
CALSCALE:GREGORIAN
METHOD:PUBLISH
X-WR-CALNAME:Gungahlin Uniting Church
X-ORIGINAL-URL:https://www.gungahlinuniting.org
X-WR-CALDESC:Events for Gungahlin Uniting Church
REFRESH-INTERVAL;VALUE=DURATION:PT1H
X-Robots-Tag:noindex
X-PUBLISHED-TTL:PT1H
BEGIN:VTIMEZONE
TZID:Australia/Sydney
BEGIN:STANDARD
TZOFFSETFROM:+1100
TZOFFSETTO:+1000
TZNAME:AEST
DTSTART:20240406T160000
END:STANDARD
BEGIN:DAYLIGHT
TZOFFSETFROM:+1000
TZOFFSETTO:+1100
TZNAME:AEDT
DTSTART:20241005T160000
END:DAYLIGHT
BEGIN:STANDARD
TZOFFSETFROM:+1100
TZOFFSETTO:+1000
TZNAME:AEST
DTSTART:20250405T160000
END:STANDARD
BEGIN:DAYLIGHT
TZOFFSETFROM:+1000
TZOFFSETTO:+1100
TZNAME:AEDT
DTSTART:20251004T160000
END:DAYLIGHT
BEGIN:STANDARD
TZOFFSETFROM:+1100
TZOFFSETTO:+1000
TZNAME:AEST
DTSTART:20260404T160000
END:STANDARD
BEGIN:DAYLIGHT
TZOFFSETFROM:+1000
TZOFFSETTO:+1100
TZNAME:AEDT
DTSTART:20261003T160000
END:DAYLIGHT
END:VTIMEZONE
BEGIN:VEVENT
DTSTART;TZID=Australia/Sydney:20250823T090000
DTEND;TZID=Australia/Sydney:20250823T153000
DTSTAMP:20260420T233214
CREATED:20250614T030359Z
LAST-MODIFIED:20250614T030448Z
UID:10726-1755939600-1755963000@www.gungahlinuniting.org
SUMMARY:Word in Song
DESCRIPTION:Are you passionate about singing that is deeply rooted in Scripture? The Word in Song Conference is where worship leaders\, musicians\, and church members come together to be equipped\, inspired\, and encouraged—helping you and your church grow in a gospel-centered approach to music and ministry.
URL:https://www.gungahlinuniting.org/event/word-in-song/
LOCATION:St Matthew’s Anglican Church\, 5 Laurens St\, Wanniassa\, ACT\, 2903\, Australia
END:VEVENT
END:VCALENDAR