BEGIN:VCALENDAR
VERSION:2.0
PRODID:-//Gungahlin Uniting Church - ECPv6.15.20//NONSGML v1.0//EN
CALSCALE:GREGORIAN
METHOD:PUBLISH
X-WR-CALNAME:Gungahlin Uniting Church
X-ORIGINAL-URL:https://www.gungahlinuniting.org
X-WR-CALDESC:Events for Gungahlin Uniting Church
REFRESH-INTERVAL;VALUE=DURATION:PT1H
X-Robots-Tag:noindex
X-PUBLISHED-TTL:PT1H
BEGIN:VTIMEZONE
TZID:Australia/Sydney
BEGIN:STANDARD
TZOFFSETFROM:+1100
TZOFFSETTO:+1000
TZNAME:AEST
DTSTART:20240406T160000
END:STANDARD
BEGIN:DAYLIGHT
TZOFFSETFROM:+1000
TZOFFSETTO:+1100
TZNAME:AEDT
DTSTART:20241005T160000
END:DAYLIGHT
BEGIN:STANDARD
TZOFFSETFROM:+1100
TZOFFSETTO:+1000
TZNAME:AEST
DTSTART:20250405T160000
END:STANDARD
BEGIN:DAYLIGHT
TZOFFSETFROM:+1000
TZOFFSETTO:+1100
TZNAME:AEDT
DTSTART:20251004T160000
END:DAYLIGHT
BEGIN:STANDARD
TZOFFSETFROM:+1100
TZOFFSETTO:+1000
TZNAME:AEST
DTSTART:20260404T160000
END:STANDARD
BEGIN:DAYLIGHT
TZOFFSETFROM:+1000
TZOFFSETTO:+1100
TZNAME:AEDT
DTSTART:20261003T160000
END:DAYLIGHT
END:VTIMEZONE
BEGIN:VEVENT
DTSTART;TZID=Australia/Sydney:20250914T093000
DTEND;TZID=Australia/Sydney:20250914T110000
DTSTAMP:20260420T185055
CREATED:20250815T222939Z
LAST-MODIFIED:20250913T003803Z
UID:11123-1757842200-1757847600@www.gungahlinuniting.org
SUMMARY:Worship Service
DESCRIPTION:Lead by Rev Hugh Park \n\n\n\nBible ReadingsJeremiah 4:11-12\,22-28Psalm 141 Timothy 1:12-17Luke 15:1-1 \n\n\n\nEvery Sunday we join in worship on site at the church building and online\, you can find out how to join worship online here. \n\n\n\nWorship seeks to be meaningful in different ways for us all. In Jesus Christ we see how he drew near to everyone\, and so we hope our worship expresses this nearness too.
URL:https://www.gungahlinuniting.org/event/worship-service-9/
LOCATION:Gungahlin Uniting Church\, 108 The Valley Avenue\, Gungahlin\, ACT\, 2912\, Australia
CATEGORIES:Worship
END:VEVENT
BEGIN:VEVENT
DTSTART;TZID=Australia/Sydney:20250914T113000
DTEND;TZID=Australia/Sydney:20250914T124500
DTSTAMP:20260420T185055
CREATED:20250815T214836Z
LAST-MODIFIED:20250815T214843Z
UID:11091-1757849400-1757853900@www.gungahlinuniting.org
SUMMARY:Family Ice Skating
DESCRIPTION:Kippax Uniting Church is delivering this event with support from ACT Health Promotion Grant Program and a Ginninderry Community Grant Program. Registration is required. Physical forms for registration are available at Kippax Uniting Church – cnr Hardwick Cr &\, Luke St\, Holt . Tickets need to be paid for prior to the event to secure your place. Parents / carers must remain onsite with their children under the age of 14.
URL:https://www.gungahlinuniting.org/event/family-ice-skating/
LOCATION:Phillip Swimming & Ice Skating Centre\, 1 Irving Street\, Phillip\, ACT\, Australia
END:VEVENT
END:VCALENDAR