BEGIN:VCALENDAR
VERSION:2.0
PRODID:-//Gungahlin Uniting Church - ECPv6.15.20//NONSGML v1.0//EN
CALSCALE:GREGORIAN
METHOD:PUBLISH
X-ORIGINAL-URL:https://www.gungahlinuniting.org
X-WR-CALDESC:Events for Gungahlin Uniting Church
REFRESH-INTERVAL;VALUE=DURATION:PT1H
X-Robots-Tag:noindex
X-PUBLISHED-TTL:PT1H
BEGIN:VTIMEZONE
TZID:Australia/Sydney
BEGIN:STANDARD
TZOFFSETFROM:+1100
TZOFFSETTO:+1000
TZNAME:AEST
DTSTART:20240406T160000
END:STANDARD
BEGIN:DAYLIGHT
TZOFFSETFROM:+1000
TZOFFSETTO:+1100
TZNAME:AEDT
DTSTART:20241005T160000
END:DAYLIGHT
BEGIN:STANDARD
TZOFFSETFROM:+1100
TZOFFSETTO:+1000
TZNAME:AEST
DTSTART:20250405T160000
END:STANDARD
BEGIN:DAYLIGHT
TZOFFSETFROM:+1000
TZOFFSETTO:+1100
TZNAME:AEDT
DTSTART:20251004T160000
END:DAYLIGHT
BEGIN:STANDARD
TZOFFSETFROM:+1100
TZOFFSETTO:+1000
TZNAME:AEST
DTSTART:20260404T160000
END:STANDARD
BEGIN:DAYLIGHT
TZOFFSETFROM:+1000
TZOFFSETTO:+1100
TZNAME:AEDT
DTSTART:20261003T160000
END:DAYLIGHT
END:VTIMEZONE
BEGIN:VEVENT
DTSTART;TZID=Australia/Sydney:20250921T093000
DTEND;TZID=Australia/Sydney:20250921T110000
DTSTAMP:20260420T185138
CREATED:20250815T223021Z
LAST-MODIFIED:20250913T004000Z
UID:11125-1758447000-1758452400@www.gungahlinuniting.org
SUMMARY:Worship Service
DESCRIPTION:Lead by Rev Hugh Park \n\n\n\nBible ReadingsJeremiah 8:18-9:1Psalm 79:1-91 Timothy 2:1-7Luke 16:1-13 \n\n\n\nEvery Sunday we join in worship on site at the church building and online\, you can find out how to join worship online here. \n\n\n\nWorship seeks to be meaningful in different ways for us all. In Jesus Christ we see how he drew near to everyone\, and so we hope our worship expresses this nearness too.
URL:https://www.gungahlinuniting.org/event/worship-service-10/
LOCATION:Gungahlin Uniting Church\, 108 The Valley Avenue\, Gungahlin\, ACT\, 2912\, Australia
CATEGORIES:Worship
END:VEVENT
BEGIN:VEVENT
DTSTART;TZID=Australia/Sydney:20250921T103000
DTEND;TZID=Australia/Sydney:20250921T120000
DTSTAMP:20260420T185138
CREATED:20250913T004328Z
LAST-MODIFIED:20250913T004703Z
UID:11191-1758450600-1758456000@www.gungahlinuniting.org
SUMMARY:Hymn Sing
DESCRIPTION:Wattle Park congregation invites friends from GUC to join them for a Hymalong.Come and sing your old favourites once again. There will be a light morning tea to follow.Sunday 21st September at 10.30 am \n\n\n\nDirections\n\n\n\nWattle Park is located on the Barton Highway just North of the ACT border. \n\n\n\nIf coming from Canberra proceed from the border on the highway in the right lane and just after you past the church on your right there will be a U turn lane at Church Lane you can use to access the southbound highway lanes where the church driveway is located. \n\n\n\nIf coming from Yass you will have passed Spring Range Road on your left and Church Lane on you right the church is located slightly up the hill from here. \n\n\n\nThe church entry is the second driveway you will see on the left after Church Lane and it is amongst the pine trees.
URL:https://www.gungahlinuniting.org/event/hym-sing/
LOCATION:Wattle Park Uniting Church\, Wattle Park\, Barton Hwy\, Wallaroo\, NSW\, 2618\, Australia
END:VEVENT
END:VCALENDAR